BEGIN:VCALENDAR
VERSION:2.0
PRODID:-//Stephen Earp - ECPv6.15.20//NONSGML v1.0//EN
CALSCALE:GREGORIAN
METHOD:PUBLISH
X-WR-CALNAME:Stephen Earp
X-ORIGINAL-URL:https://www.stephenearp.com
X-WR-CALDESC:Events for Stephen Earp
REFRESH-INTERVAL;VALUE=DURATION:PT1H
X-Robots-Tag:noindex
X-PUBLISHED-TTL:PT1H
BEGIN:VTIMEZONE
TZID:America/New_York
BEGIN:DAYLIGHT
TZOFFSETFROM:-0500
TZOFFSETTO:-0400
TZNAME:EDT
DTSTART:20240310T070000
END:DAYLIGHT
BEGIN:STANDARD
TZOFFSETFROM:-0400
TZOFFSETTO:-0500
TZNAME:EST
DTSTART:20241103T060000
END:STANDARD
BEGIN:DAYLIGHT
TZOFFSETFROM:-0500
TZOFFSETTO:-0400
TZNAME:EDT
DTSTART:20250309T070000
END:DAYLIGHT
BEGIN:STANDARD
TZOFFSETFROM:-0400
TZOFFSETTO:-0500
TZNAME:EST
DTSTART:20251102T060000
END:STANDARD
BEGIN:DAYLIGHT
TZOFFSETFROM:-0500
TZOFFSETTO:-0400
TZNAME:EDT
DTSTART:20260308T070000
END:DAYLIGHT
BEGIN:STANDARD
TZOFFSETFROM:-0400
TZOFFSETTO:-0500
TZNAME:EST
DTSTART:20261101T060000
END:STANDARD
BEGIN:DAYLIGHT
TZOFFSETFROM:-0500
TZOFFSETTO:-0400
TZNAME:EDT
DTSTART:20270314T070000
END:DAYLIGHT
BEGIN:STANDARD
TZOFFSETFROM:-0400
TZOFFSETTO:-0500
TZNAME:EST
DTSTART:20271107T060000
END:STANDARD
END:VTIMEZONE
BEGIN:VEVENT
DTSTART;TZID=America/New_York:20260326T130000
DTEND;TZID=America/New_York:20260326T140000
DTSTAMP:20260420T042014
CREATED:20260216T194723Z
LAST-MODIFIED:20260216T194723Z
UID:46567-1774530000-1774533600@www.stephenearp.com
SUMMARY:A Potter's Journey into the World of Delftware
DESCRIPTION:I will be presenting a zoom talk about my decade-long exploration of the delftware style of painted ceramic decoration. \nThe Ceramic Study Club of Boston presents this Vivian Hawes Memorial Lecture series event.   For more information\, and to request a zoom link for the event\, contact Ann Lanning.
URL:https://www.stephenearp.com/event/a-potters-journey-into-the-world-of-delftware
LOCATION:MA
ORGANIZER;CN="Ceramic Study Club of Boston":MAILTO:lanning@historic-deerfield.org
END:VEVENT
BEGIN:VEVENT
DTSTART;TZID=America/New_York:20251122T100000
DTEND;TZID=America/New_York:20251122T160000
DTSTAMP:20260420T042014
CREATED:20231024T141038Z
LAST-MODIFIED:20250621T113148Z
UID:6245-1763805600-1763827200@www.stephenearp.com
SUMMARY:Historic Trades Pottery Demonstration
DESCRIPTION:
URL:https://www.stephenearp.com/event/historic-trades-demonstration
LOCATION:Historic Deerfield\, 84B Old Main Street\, Deerfield\, MA\, 01342\, United States
CATEGORIES:Pottery Demonstration
ATTACH;FMTTYPE=image/jpeg:https://www.stephenearp.com/wp-content/uploads/2023/10/Steve-9.jpg
END:VEVENT
BEGIN:VEVENT
DTSTART;TZID=America/New_York:20251114T110000
DTEND;TZID=America/New_York:20251115T190000
DTSTAMP:20260420T042014
CREATED:20250114T132554Z
LAST-MODIFIED:20250114T132554Z
UID:45998-1763118000-1763233200@www.stephenearp.com
SUMMARY:Christkindlesmarkt
DESCRIPTION:A traditional German Christmas market in the quintessential New England town of Sutton.
URL:https://www.stephenearp.com/event/christkindlesmarkt
LOCATION:MA
CATEGORIES:Craft Show
ATTACH;FMTTYPE=image/jpeg:https://www.stephenearp.com/wp-content/uploads/2025/01/VAFA-Christmas-Event-2025.jpg
END:VEVENT
BEGIN:VEVENT
DTSTART;TZID=America/New_York:20250913T090000
DTEND;TZID=America/New_York:20250914T170000
DTSTAMP:20260420T042014
CREATED:20250114T131924Z
LAST-MODIFIED:20250114T132703Z
UID:45995-1757754000-1757869200@www.stephenearp.com
SUMMARY:Colonial Market and Fair
DESCRIPTION:One of the country’s top traditional decorative arts festivals\, on the grounds of George Washington’s Mount Vernon.
URL:https://www.stephenearp.com/event/colonial-market-and-fair-2
LOCATION:MA
CATEGORIES:Craft Show
ATTACH;FMTTYPE=image/jpeg:https://www.stephenearp.com/wp-content/uploads/2025/01/Mt-Vernon.jpg
END:VEVENT
BEGIN:VEVENT
DTSTART;TZID=America/New_York:20250912T110000
DTEND;TZID=America/New_York:20251203T160000
DTSTAMP:20260420T042014
CREATED:20250627T141948Z
LAST-MODIFIED:20250627T141948Z
UID:46283-1757674800-1764777600@www.stephenearp.com
SUMMARY:Reflecting on the Past/Dreaming the Future
DESCRIPTION:Hampdon Gallery’s inaugural Trienneal exhibit. \nReception\, Friday\, September 12 5-7pm
URL:https://www.stephenearp.com/event/reflecting-on-the-past-dreaming-the-future
LOCATION:Hampden Gallery\, 131 Southwest Circle\, University of Massachusetts\, Amherst\, MA\, 01003\, United States
CATEGORIES:Art exhibit
ATTACH;FMTTYPE=image/jpeg:https://www.stephenearp.com/wp-content/uploads/2025/06/Triennial-Reflecting-on-the-Past-Dreaming-the-Future.jpg
END:VEVENT
BEGIN:VEVENT
DTSTART;TZID=America/New_York:20250817T100000
DTEND;TZID=America/New_York:20250818T150000
DTSTAMP:20260420T042014
CREATED:20250219T121445Z
LAST-MODIFIED:20250510T131054Z
UID:46010-1755424800-1755529200@www.stephenearp.com
SUMMARY:Bedminster Traditional Artisan Show
DESCRIPTION:Celebrate the enduring spirit of American craftsmanship at the Bedminster Traditional Artisan Show\, which brings together 40 of the country’s finest artisans working in traditional decorative art\, Americana and folk art.
URL:https://www.stephenearp.com/event/bedminster
LOCATION:Greater Philadelphi Expo Center\, 100 Station Avenue\, Oaks\, PA\, 19456\, United States
CATEGORIES:Craft Show
ATTACH;FMTTYPE=image/jpeg:https://www.stephenearp.com/wp-content/uploads/2025/02/bedminster.jpg
END:VEVENT
BEGIN:VEVENT
DTSTART;TZID=America/New_York:20250620T100000
DTEND;TZID=America/New_York:20250719T170000
DTSTAMP:20260420T042014
CREATED:20250510T131122Z
LAST-MODIFIED:20250621T112921Z
UID:46215-1750413600-1752944400@www.stephenearp.com
SUMMARY:Ceramic Botanica
DESCRIPTION:Botanically inspired ceramics show and sale curated by Martha Grover. \nGallery open 10am to 5pm\, Wednesday – Sunday.  Closed Monday\, Tuesday.
URL:https://www.stephenearp.com/event/ceramic-botanica
LOCATION:Krikorian Gallery\, 25 Sagamore Road\, Worcester\, MA\, 01605\, United States
ATTACH;FMTTYPE=image/jpeg:https://www.stephenearp.com/wp-content/uploads/2025/05/332ad7eb-3a73-4cde-8e9d-3bfef4a6577f.jpg
END:VEVENT
BEGIN:VEVENT
DTSTART;TZID=America/New_York:20250503T110000
DTEND;TZID=America/New_York:20250601T170000
DTSTAMP:20260420T042014
CREATED:20250219T122629Z
LAST-MODIFIED:20250503T211542Z
UID:46016-1746270000-1748797200@www.stephenearp.com
SUMMARY:State of Clay Biennial Ceramics Exhibit
DESCRIPTION:13th biennial exhibition of original\, innovative ceramic work by current and former residents of Massachusetts or those with close ties to Massachusetts. 
URL:https://www.stephenearp.com/event/state-of-clay-biennial-ceramics-exhibit
LOCATION:Lexington Arts and Crafts Society\, 130 Waltham Street\, Lexington\, MA\, 02421\, United States
CATEGORIES:Art exhibit
ATTACH;FMTTYPE=image/png:https://www.stephenearp.com/wp-content/uploads/2025/02/16d29ab2-7dd1-4fe8-b950-3b0c2df2f820.png
END:VEVENT
BEGIN:VEVENT
DTSTART;TZID=America/New_York:20250426T100000
DTEND;TZID=America/New_York:20250427T170000
DTSTAMP:20260420T042014
CREATED:20231024T142300Z
LAST-MODIFIED:20250408T235545Z
UID:6250-1745661600-1745773200@www.stephenearp.com
SUMMARY:Asparagus Valley Pottery Trail
DESCRIPTION:A self-guided tour of eight pottery studios in the Pioneer Valley of western Massachusetts.  My guest this year is Haakon Lenzi\, from Brooklyn\, NY. \nVisit my Available Now page for the one day only on-line component of the Pottery Trail on Friday\, April 25.
URL:https://www.stephenearp.com/event/asparagus-valley-pottery-trail
LOCATION:Stephen Earp Studio\, 15 Masonic Ave\, Shelburne Falls\, MA\, 01370\, United States
CATEGORIES:Studio Tour
ATTACH;FMTTYPE=image/jpeg:https://www.stephenearp.com/wp-content/uploads/2023/06/AVPT-2023-scaled.jpg
END:VEVENT
END:VCALENDAR